BEGIN:VCALENDAR
VERSION:2.0
PRODID:-//wp-events-plugin.com//7.2.2.1//EN
BEGIN:VEVENT
UID:1@individuell-interieur.ch
DTSTART:20191217T164500Z
DTEND:20191217T190000Z
DTSTAMP:20191214T091202Z
URL:https://individuell-interieur.ch/events/gourmet-essen/
SUMMARY:Gourmet-Essen
DESCRIPTION:
LOCATION:Filiale Kerzers\, Murtenstrasse 15\, Kerzers\, 3210\, Schweiz
X-APPLE-STRUCTURED-LOCATION;VALUE=URI;X-ADDRESS=Murtenstrasse 15\, Kerzers\
 , 3210\, Schweiz;X-APPLE-RADIUS=100;X-TITLE=Filiale Kerzers:geo:0,0
END:VEVENT
BEGIN:VEVENT
UID:43@individuell-interieur.ch
DTSTART;TZID=Europe/Zurich:20191226T170000
DTEND;TZID=Europe/Zurich:20191226T210000
DTSTAMP:20191217T211401Z
URL:https://individuell-interieur.ch/events/gourmet-abend-2019-12-26/
SUMMARY:Gourmet-Abend
DESCRIPTION:Erleben Sie unsere Küchen im Praxis-Test.
ATTACH;FMTTYPE=image/jpeg:https://individuell-interieur.ch/wp-content/uplo
 ads/2019/12/gourmet-abend.jpg
END:VEVENT
BEGIN:VEVENT
UID:4@individuell-interieur.ch
DTSTART:20191229T180000Z
DTEND:20191229T220000Z
DTSTAMP:20191217T211050Z
URL:https://individuell-interieur.ch/events/gourmetessen/
SUMMARY:Gourmetessen
DESCRIPTION:Es findet wieder ein Gourmetessen statt.
LOCATION:Filiale Kerzers\, Testadress\, Testtown\, Schweiz
X-APPLE-STRUCTURED-LOCATION;VALUE=URI;X-ADDRESS=Testadress\, Testtown\, Sch
 weiz;X-APPLE-RADIUS=100;X-TITLE=Filiale Kerzers:geo:0,0
END:VEVENT
BEGIN:VEVENT
UID:50@individuell-interieur.ch
DTSTART;TZID=Europe/Zurich:20200227T180000
DTEND;TZID=Europe/Zurich:20200227T220000
DTSTAMP:20200213T215531Z
URL:https://individuell-interieur.ch/events/gourmet-abend/
SUMMARY:Gourmet-Abend
DESCRIPTION:Erleben Sie unsere Küchen im Praxis-Test.
ATTACH;FMTTYPE=image/jpeg:https://individuell-interieur.ch/wp-content/uplo
 ads/2019/12/09.jpg
LOCATION:2i Filiale\, Bielstrasse 1\, Lengnau\, Schweiz
X-APPLE-STRUCTURED-LOCATION;VALUE=URI;X-ADDRESS=Bielstrasse 1\, Lengnau\, S
 chweiz;X-APPLE-RADIUS=100;X-TITLE=2i Filiale:geo:0,0
END:VEVENT
BEGIN:VEVENT
UID:56@individuell-interieur.ch
DTSTART;TZID=Europe/Zurich:20240328T150000
DTEND;TZID=Europe/Zurich:20240328T200000
DTSTAMP:20240308T152017Z
URL:https://individuell-interieur.ch/events/oster-apero/
SUMMARY:Oster Apéro
DESCRIPTION:Es freut uns\, Sie am Freitag\, 28. März 2024 zu unserem Oster
 apéro einzuladen und Ihnen unsere\nAusstellungen an der Bielstrasse 1 in 
 Lengnau oder an der Murtenstrasse 1 in Kerzers zu\npräsentieren.\n\nAb 15
 :00 Uhr empfangen wir Sie mit einem tollen Apéro und zu Ostern passend be
 malten Eiern. Die\nAusstellung ist durchgehend bis 20:00 Uhr für Sie geö
 ffnet und wir stehen Ihnen bei Fragen rund um die\nKüchen- und Wohnwelt g
 erne zur Verfügung.\n\nWir freuen uns auf einen vergnügten Anlass mit in
 spirierenden Gesprächen
CATEGORIES:Kulinarik
LOCATION:2i Filiale\, Bielstrasse 1\, Lengnau\, Schweiz
X-APPLE-STRUCTURED-LOCATION;VALUE=URI;X-ADDRESS=Bielstrasse 1\, Lengnau\, S
 chweiz;X-APPLE-RADIUS=100;X-TITLE=2i Filiale:geo:0,0
END:VEVENT
BEGIN:VEVENT
UID:57@individuell-interieur.ch
DTSTART;TZID=Europe/Zurich:20240328T150000
DTEND;TZID=Europe/Zurich:20240328T200000
DTSTAMP:20240311T074422Z
URL:https://individuell-interieur.ch/events/oster-apero-2/
SUMMARY:Oster Apéro
DESCRIPTION:Es freut uns\, Sie am Freitag\, 28. März 2024 zu unserem Oster
 apéro einzuladen und Ihnen unsere\nAusstellungen an der Bielstrasse 1 in 
 Lengnau oder an der Murtenstrasse 1 in Kerzers zu\npräsentieren.\n\nAb 15
 :00 Uhr empfangen wir Sie mit einem tollen Apéro und zu Ostern passend be
 malten Eiern. Die\nAusstellung ist durchgehend bis 20:00 Uhr für Sie geö
 ffnet und wir stehen Ihnen bei Fragen rund um die\nKüchen- und Wohnwelt g
 erne zur Verfügung.\n\nWir freuen uns auf einen vergnügten Anlass mit in
 spirierenden Gesprächen
CATEGORIES:Kulinarik
LOCATION:Filiale Kerzers\, Murtenstrasse 1\, Kerzers\, Schweiz
X-APPLE-STRUCTURED-LOCATION;VALUE=URI;X-ADDRESS=Murtenstrasse 1\, Kerzers\,
  Schweiz;X-APPLE-RADIUS=100;X-TITLE=Filiale Kerzers:geo:0,0
END:VEVENT
BEGIN:VTIMEZONE
TZID:Europe/Zurich
X-LIC-LOCATION:Europe/Zurich
BEGIN:STANDARD
DTSTART:20191027T020000
TZOFFSETFROM:+0200
TZOFFSETTO:+0100
TZNAME:CET
END:STANDARD
BEGIN:DAYLIGHT
DTSTART:20200329T030000
TZOFFSETFROM:+0100
TZOFFSETTO:+0200
TZNAME:CEST
END:DAYLIGHT
BEGIN:STANDARD
DTSTART:20201025T020000
TZOFFSETFROM:+0200
TZOFFSETTO:+0100
TZNAME:CET
END:STANDARD
BEGIN:DAYLIGHT
DTSTART:20210328T030000
TZOFFSETFROM:+0100
TZOFFSETTO:+0200
TZNAME:CEST
END:DAYLIGHT
BEGIN:STANDARD
DTSTART:20211031T020000
TZOFFSETFROM:+0200
TZOFFSETTO:+0100
TZNAME:CET
END:STANDARD
BEGIN:DAYLIGHT
DTSTART:20220327T030000
TZOFFSETFROM:+0100
TZOFFSETTO:+0200
TZNAME:CEST
END:DAYLIGHT
BEGIN:STANDARD
DTSTART:20221030T020000
TZOFFSETFROM:+0200
TZOFFSETTO:+0100
TZNAME:CET
END:STANDARD
BEGIN:DAYLIGHT
DTSTART:20230326T030000
TZOFFSETFROM:+0100
TZOFFSETTO:+0200
TZNAME:CEST
END:DAYLIGHT
BEGIN:STANDARD
DTSTART:20231029T020000
TZOFFSETFROM:+0200
TZOFFSETTO:+0100
TZNAME:CET
END:STANDARD
END:VTIMEZONE
END:VCALENDAR